BEGIN:VCALENDAR
VERSION:2.0
CALSCALE:GREGORIAN
PRODID:adamgibbons/ics
METHOD:PUBLISH
X-PUBLISHED-TTL:PT1H
BEGIN:VEVENT
UID:69@cartelera.inexactas.ar
SUMMARY:APIs - Talleres ComCom
DTSTAMP:20260421T095900Z
DTSTART:20260505T180000Z
DTEND:20260505T210000Z
URL:https://cartelera.inexactas.ar/event/apis-talleres-comcom
GEO:-34.5438312;-58.4403805
LOCATION:Labo 1105 - Pabellón 0+Infinito\, Ciudad Universitaria\, Buenos Ai
	res
STATUS:CONFIRMED
CATEGORIES:APIs,ComCom,Talleres
END:VEVENT
END:VCALENDAR
