BEGIN:VCALENDAR
VERSION:2.0
CALSCALE:GREGORIAN
PRODID:adamgibbons/ics
METHOD:PUBLISH
X-PUBLISHED-TTL:PT1H
BEGIN:VEVENT
UID:82@cartelera.inexactas.ar
SUMMARY:Clases Públicas en la Carpa Abierta Univesitaria de Plaza Italia
DTSTAMP:20260426T011716Z
DTSTART:20260428T160000Z
DTEND:20260430T200000Z
URL:https://cartelera.inexactas.ar/event/clases-publicas-en-la-carpa-abiert
	a-univesitaria-de-plaza-italia
GEO:-34.5814551;-58.4211107
LOCATION:Plaza Italia\, Palermo\, Ciudad Autónoma de Buenos Aires - Plaza I
	talia\, Avenida Santa Fe\, Palermo Botánico\, Palermo\, Buenos Aires\, Com
	una 14\, Ciudad Autónoma de Buenos Aires\, C1425BHQ\, Argentina
STATUS:CONFIRMED
CATEGORIES:Clases Públicas,carpa abierta,feduba
END:VEVENT
END:VCALENDAR
