BEGIN:VCALENDAR
VERSION:2.0
CALSCALE:GREGORIAN
PRODID:adamgibbons/ics
METHOD:PUBLISH
X-PUBLISHED-TTL:PT1H
BEGIN:VEVENT
UID:71@cartelera.inexactas.ar
SUMMARY:Docker (fecha extra!) - Talleres ComCom
DTSTAMP:20260421T155515Z
DTSTART:20260424T200000Z
DTEND:20260424T220000Z
URL:https://cartelera.inexactas.ar/event/docker-talleres-comcom-1
GEO:-34.5438312;-58.4403805
LOCATION:Labo 1111 - Pabellón 0+Infinito\, Ciudad Universitaria\, Buenos Ai
	res
STATUS:CONFIRMED
CATEGORIES:ComCom,Docker,Talleres
END:VEVENT
END:VCALENDAR
