BEGIN:VCALENDAR
VERSION:2.0
CALSCALE:GREGORIAN
PRODID:adamgibbons/ics
METHOD:PUBLISH
X-PUBLISHED-TTL:PT1H
BEGIN:VEVENT
UID:66@cartelera.inexactas.ar
SUMMARY:Git - Talleres ComCom
DTSTAMP:20260421T154220Z
DTSTART:20260423T200000Z
DTEND:20260423T220000Z
URL:https://cartelera.inexactas.ar/event/git-talleres-comcom
GEO:-34.5438312;-58.4403805
LOCATION:Labo 1104 - Pabellón 0+Infinito\, Ciudad Universitaria\, Buenos Ai
	res
STATUS:CONFIRMED
CATEGORIES:ComCom,Git,Talleres
END:VEVENT
END:VCALENDAR
