BEGIN:VCALENDAR
VERSION:2.0
CALSCALE:GREGORIAN
PRODID:adamgibbons/ics
METHOD:PUBLISH
X-PUBLISHED-TTL:PT1H
BEGIN:VEVENT
UID:65@cartelera.inexactas.ar
SUMMARY:Docker - Talleres ComCom
DTSTAMP:20260421T113946Z
DTSTART:20260421T200000Z
DTEND:20260421T220000Z
URL:https://cartelera.inexactas.ar/event/docker-talleres-comcom
GEO:-34.5438312;-58.4403805
LOCATION:Labo 1105 - Pabellón 0+Infinito\, Ciudad Universitaria\, Buenos Ai
	res
STATUS:CONFIRMED
CATEGORIES:ComCom,Docker,Talleres
END:VEVENT
BEGIN:VEVENT
UID:68@cartelera.inexactas.ar
SUMMARY:GameDev - Talleres ComCom
DTSTAMP:20260421T113946Z
DTSTART:20260427T200000Z
DTEND:20260427T220000Z
URL:https://cartelera.inexactas.ar/event/gamedev-talleres-comcom
GEO:-34.5438312;-58.4403805
LOCATION:Labo 1105 - Pabellón 0+Infinito\, Ciudad Universitaria\, Buenos Ai
	res
STATUS:CONFIRMED
CATEGORIES:ComCom,Gamedev,Talleres
END:VEVENT
BEGIN:VEVENT
UID:69@cartelera.inexactas.ar
SUMMARY:APIs - Talleres ComCom
DTSTAMP:20260421T113946Z
DTSTART:20260505T180000Z
DTEND:20260505T210000Z
URL:https://cartelera.inexactas.ar/event/apis-talleres-comcom
GEO:-34.5438312;-58.4403805
LOCATION:Labo 1105 - Pabellón 0+Infinito\, Ciudad Universitaria\, Buenos Ai
	res
STATUS:CONFIRMED
CATEGORIES:APIs,ComCom,Talleres
END:VEVENT
END:VCALENDAR
