BEGIN:VCALENDAR
VERSION:2.0
CALSCALE:GREGORIAN
PRODID:adamgibbons/ics
METHOD:PUBLISH
X-PUBLISHED-TTL:PT1H
BEGIN:VEVENT
UID:70@cartelera.inexactas.ar
SUMMARY:WebDev - Talleres ComCom
DTSTAMP:20260421T130551Z
DTSTART:20260508T213000Z
DTEND:20260509T003000Z
DESCRIPTION:> En el marco del paro universitario por la no aplicación de la
	 Ley de\n> Financiamiento Universitario\, desde la ComCom queremos invitar
	les a participar\n> en una serie de talleres organizados y dictados por al
	umnos de la carrera\, a\n> lo largo de 3 semanas.\n> \n> Los talleres tien
	en un cupo de 50 personas cada uno (capacidad máxima del\n> aula).\n\n¿Que
	rés armarte un sitio web? ¿Un CV con mucha onda? ¿Un blog? ¿Lo que sea que
	\nse te ocurra? En el taller de desarrollo web vamos a tener una introducc
	ión bien\npotente al tema. Es un taller super introductorio dirigido a gen
	te que no sepa\nabsolutamente nada. Nos vamos a concentrar exclusivamente 
	en HTML y CSS\, los dos\nlenguajes necesarios para poder construir un siti
	o que se vea espectacular y\ntener las bases necesarias para que después p
	uedan profundizar en el gigantesco\ncampo del desarrollo web.\n\nRequerimi
	entos: Nada (Preferible tener algo de experiencia navegando/modificando\na
	rchivos de texto. Ideal saber usar vscode)\n\n+info: https://comcom.dc.uba
	.ar/talleres/paro/\n[https://comcom.dc.uba.ar/talleres/paro/]\nInstagram: 
	@comcom.exactas.uba [https://www.instagram.com/comcom.exactas.uba/]
URL:https://cartelera.inexactas.ar/event/webdev-talleres-comcom
GEO:-34.5438312;-58.4403805
LOCATION:Labo 1112 - Pabellón 0+Infinito\, Ciudad Universitaria\, Buenos Ai
	res
STATUS:CONFIRMED
CATEGORIES:ComCom,Talleres,Webdev
X-ALT-DESC;FMTTYPE=text/html:<blockquote><p>En el marco del paro universita
	rio por la no aplicación de la Ley de Financiamiento Universitario, desde 
	la ComCom queremos invitarles a participar en una serie de talleres organi
	zados y dictados por alumnos de la carrera, a lo largo de 3 semanas.</p><p
	>Los talleres tienen un cupo de 50 personas cada uno (capacidad máxima del
	 aula).</p></blockquote><p>¿Querés armarte un sitio web? ¿Un CV con mucha 
	onda? ¿Un blog? ¿Lo que sea que se te ocurra? En el taller de desarrollo w
	eb vamos a tener una introducción bien potente al tema. Es un taller super
	 introductorio dirigido a gente que no sepa absolutamente nada. Nos vamos 
	a concentrar exclusivamente en HTML y CSS, los dos lenguajes necesarios pa
	ra poder construir un sitio que se vea espectacular y tener las bases nece
	sarias para que después puedan profundizar en el gigantesco campo del desa
	rrollo web.</p><p><strong>Requerimientos:</strong> Nada <em>(Preferible te
	ner algo de experiencia navegando/modificando archivos de texto. Ideal sab
	er usar vscode)</em></p><p>+info: <a href="https://comcom.dc.uba.ar/taller
	es/paro/" target="_blank">https://comcom.dc.uba.ar/talleres/paro/</a><br>I
	nstagram: <a href="https://www.instagram.com/comcom.exactas.uba/" target="
	_blank">@comcom.exactas.uba</a></p>
BEGIN:VALARM
ACTION:DISPLAY
DESCRIPTION:WebDev - Talleres ComCom
TRIGGER:-PT1H
END:VALARM
END:VEVENT
END:VCALENDAR
