BEGIN:VCALENDAR
VERSION:2.0
CALSCALE:GREGORIAN
PRODID:adamgibbons/ics
METHOD:PUBLISH
X-PUBLISHED-TTL:PT1H
BEGIN:VEVENT
UID:72@cartelera.inexactas.ar
SUMMARY:Visita a laboratorios de investigación del iB3 - Actividad de Vincu
	lación con Estudiantes de IBMC (Biología)
DTSTAMP:20260421T141844Z
DTSTART:20260424T130000Z
DTEND:20260424T150000Z
DESCRIPTION:En el contexto del no inicio de cuatrimestre para exigir el cum
	plimiento de la\nLey de Financiamiento Universitario y ante inquietudes de
	 varias/os estudiantes\nde IBMC 1C_2026 docentes de IBMC del Instituto de 
	Biociencias\, Biotecnología y\nBiología traslacional (iB3\,\nhttps://ib3.f
	bmc.fcen.uba.ar/grupos-de-investigacion/)\n[https://ib3.fbmc.fcen.uba.ar/g
	rupos-de-investigacion/)] organizamos una\nactividad de extensión y divulg
	ación “Visita a laboratorios de investigación del\nIB3” para estrechar el 
	vínculo humano de la comunidad de docentes\,\ninvestigadores y estudiantes
	.
URL:https://cartelera.inexactas.ar/event/visita-a-laboratorios-de-investiga
	cion-del-ib3-actividad-de-vinculacion-con-estudiantes-de-ibmc-biologia
LOCATION:Instituto de Biociencias\, Biotecnología y Biología Traslacional (
	IB3) - 2do Piso\, Pabellón 2\, FCEN\, UBA
STATUS:CONFIRMED
CATEGORIES:
X-ALT-DESC;FMTTYPE=text/html:<p>En el contexto del no inicio de cuatrimestr
	e para exigir el cumplimiento de la Ley de Financiamiento Universitario y 
	ante inquietudes de varias/os estudiantes de IBMC 1C_2026  docentes de IBM
	C del Instituto de Biociencias, Biotecnología y Biología traslacional (iB3
	, <a href="https://ib3.fbmc.fcen.uba.ar/grupos-de-investigacion/)" target=
	"_blank">https://ib3.fbmc.fcen.uba.ar/grupos-de-investigacion/)</a> organi
	zamos una actividad de extensión y divulgación “Visita a laboratorios de i
	nvestigación del IB3”&nbsp;para estrechar el vínculo humano de la comunida
	d de docentes, investigadores y estudiantes.</p>
BEGIN:VALARM
ACTION:DISPLAY
DESCRIPTION:Visita a laboratorios de investigación del iB3 - Actividad de V
	inculación con Estudiantes de IBMC (Biología)
TRIGGER:-PT1H
END:VALARM
END:VEVENT
END:VCALENDAR
