BEGIN:VCALENDAR
VERSION:2.0
CALSCALE:GREGORIAN
PRODID:adamgibbons/ics
METHOD:PUBLISH
X-PUBLISHED-TTL:PT1H
BEGIN:VEVENT
UID:75@cartelera.inexactas.ar
SUMMARY:Marcha Federal Universitaria
DTSTAMP:20260422T083009Z
DTSTART:20260512T190000Z
DESCRIPTION:🇦🇷 MARCHA FEDERAL\nPor el cumplimiento de la Ley de Financiamien
	to Universitario\n\n📅 Martes 12 de mayo de 2026\n📍 Plaza de Mayo CABA\n\n#
	UniversidadPúblicaSiempre\n[https://www.instagram.com/explore/tags/univers
	idadp%C3%BAblicasiempre/?hl=es]\nvia: https://www.instagram.com/cin.oficia
	l/p/DXZhjvujuJk\n[https://www.instagram.com/cin.oficial/p/DXZhjvujuJk/?hl=
	es]/
URL:https://cartelera.inexactas.ar/event/marcha-federal-universitaria
LOCATION:plaza de mayo - plaza de mayo
STATUS:CONFIRMED
CATEGORIES:Marcha,Ley de Financiamiento Universitario,Interuniversitario,Fe
	deral
X-ALT-DESC;FMTTYPE=text/html:<p>🇦🇷 MARCHA FEDERAL<br>Por el cumplimiento de 
	la Ley de Financiamiento Universitario<br><br>📅 Martes 12 de mayo de 2026<
	br>📍 Plaza de Mayo CABA<br><br><a href="https://www.instagram.com/explore/
	tags/universidadp%C3%BAblicasiempre/?hl=es" target="_blank">#UniversidadPú
	blicaSiempre</a><br>via: <a href="https://www.instagram.com/cin.oficial/p/
	DXZhjvujuJk/?hl=es" target="_blank">https://www.instagram.com/cin.oficial/
	p/DXZhjvujuJk</a>/</p>
BEGIN:VALARM
ACTION:DISPLAY
DESCRIPTION:Marcha Federal Universitaria
TRIGGER:-PT1H
END:VALARM
END:VEVENT
END:VCALENDAR
