BEGIN:VCALENDAR
VERSION:2.0
CALSCALE:GREGORIAN
PRODID:adamgibbons/ics
METHOD:PUBLISH
X-PUBLISHED-TTL:PT1H
BEGIN:VEVENT
UID:78@cartelera.inexactas.ar
SUMMARY:Marcha de Antorchas
DTSTAMP:20260422T231815Z
DTSTART:20260425T213000Z
URL:https://cartelera.inexactas.ar/event/marcha-de-antorchas
LOCATION:Av Callao y Av Corrientes - CABA
STATUS:CONFIRMED
CATEGORIES:Marcha,Ley Glaciares,Ley de Financiamiento Universitario
BEGIN:VALARM
ACTION:DISPLAY
DESCRIPTION:Marcha de Antorchas
TRIGGER:-PT1H
END:VALARM
END:VEVENT
END:VCALENDAR
