BEGIN:VCALENDAR
VERSION:2.0
CALSCALE:GREGORIAN
PRODID:adamgibbons/ics
METHOD:PUBLISH
X-PUBLISHED-TTL:PT1H
BEGIN:VEVENT
UID:74@cartelera.inexactas.ar
SUMMARY:ECI N3: Exploiting and securing communication on the Internet
DTSTAMP:20260421T142905Z
DTSTART:20260727T210000Z
DTEND:20260801T000000Z
DESCRIPTION:Profesor\n\nVladimír Veselý [https://www.fit.vut.cz/person/vese
	lyv/.en]\n\n@FIT_VUT@mastodon.social [https://mastodon.social/@FIT_VUT]\n\
	nTurno\n\nNoche (18:00 a 21:00)\n\nIdioma\n\nInglés\n\nDescripción\n\nDuri
	ng the course\, participants will learn about the basic principles of\ncom
	puter communication security. We will explain how authentication\,\nconfid
	entiality and integrity are achieved using various cryptographic\ntechniqu
	es (e.g. MD5\, SHA\, AES and RSA). Next\, participants will learn how to\n
	communicate securely on the web\, send emails and connect to WiFi networks
	.\nFurthermore\, we will demonstrate the security vulnerabilities in these
	 scenarios\nusing freely available hacking tools.\n\nPrograma del curso\n\
	n* Monday: Computer Networking and Security 101\n* Tuesday: TLS/SSL and ex
	ploiting HTTP\n* Wednesday: Exploiting DNS and SMTP\n* Thursday: Exploitin
	g DHCP and Wi-Fi\n* Friday: Exploiting Wi-Fi and conducting MitM\n\n
URL:https://cartelera.inexactas.ar/event/eci-n3-exploiting-and-securing-com
	munication-on-the-internet
GEO:-34.5437479;-58.440382
LOCATION:Pabellón Cero + Infinito\, Ciudad Universitaria\, Buenos Aires\, A
	rgentina - Pabellón Cero + Infinito\, Ciudad Universitaria\, Buenos Aires\
	, Argentina
STATUS:CONFIRMED
CATEGORIES:ExactasUba,Argentina,FCENUBA,ComputaciónUBA,ECI,ECIDCUBA,ECIDCFC
	ENUBA,EscuelaDeCienciasInformáticas,EscuelaDeInvierno,CienciasInformáticas
	,CursosIntensivos,ProfesVisitantes,DocentesVisitantes,CooperaciónAcadémica
	,InvestigaciónYDesarrollo,cursosDeEspecialización,cursosDeActualización,co
	nferencias,tutoriales,seminarios,DivulgaciónCientífica,BuenosAires,CABA,In
	formationSecurity,ComputerCommunicationSecurity,ComputerCommunications,Com
	puterNetworks,hacking,HTTP,DNS,DHCP,SMTP,Wi-Fi,MitM,CooperaciónInternacion
	al,investigación,FITVUT,FITBUT,VUTBrno,FITVUTBrno,FITBUTBrno,ComputerScien
	ce,CiudadUniversitariaUBA,CiudadUniversitariaBuenosAires,VUTBr,VladimírVes
	elý
X-ALT-DESC;FMTTYPE=text/html:<p><strong>Profesor</strong></p><p><a href="ht
	tps://www.fit.vut.cz/person/veselyv/.en" target="_blank">Vladimír Veselý</
	a></p><p><a href="https://mastodon.social/@FIT_VUT" target="_blank">@FIT_V
	UT@mastodon.social</a></p><p><strong>Turno</strong></p><p>Noche (18:00 a 2
	1:00)</p><p><strong>Idioma</strong></p><p>Inglés</p><p><strong>Descripción
	</strong></p><p>During the course, participants will learn about the basic
	 principles of computer communication security. We will explain how authen
	tication, confidentiality and integrity are achieved using various cryptog
	raphic techniques (e.g. MD5, SHA, AES and RSA). Next, participants will le
	arn how to communicate securely on the web, send emails and connect to WiF
	i networks. Furthermore, we will demonstrate the security vulnerabilities 
	in these scenarios using freely available hacking tools.</p><p><strong>Pro
	grama del curso</strong></p><p>* Monday: Computer Networking and Security 
	101<br>* Tuesday: TLS/SSL and exploiting HTTP<br>* Wednesday: Exploiting D
	NS and SMTP<br>* Thursday: Exploiting DHCP and Wi-Fi<br>* Friday: Exploiti
	ng Wi-Fi and conducting MitM</p><p></p>
BEGIN:VALARM
ACTION:DISPLAY
DESCRIPTION:ECI N3: Exploiting and securing communication on the Internet
TRIGGER:-PT1H
END:VALARM
END:VEVENT
END:VCALENDAR
