BEGIN:VCALENDAR
VERSION:2.0
CALSCALE:GREGORIAN
PRODID:adamgibbons/ics
METHOD:PUBLISH
X-PUBLISHED-TTL:PT1H
BEGIN:VEVENT
UID:77@cartelera.inexactas.ar
SUMMARY:DÁTAME: Mezclando Física y Aprendizaje Automático para entender los
	 Glaciares
DTSTAMP:20260422T232023Z
DTSTART:20260423T190000Z
URL:https://cartelera.inexactas.ar/event/datame-mezclando-fisica-y-aprendiz
	aje-automatico-para-entender-los-glaciares
LOCATION:Aula 1402\, Pabellón 0+∞ - Ciudad Universitaria
STATUS:CONFIRMED
CATEGORIES:Exactas,datos,datame,lcd
BEGIN:VALARM
ACTION:DISPLAY
DESCRIPTION:DÁTAME: Mezclando Física y Aprendizaje Automático para entender
	 los Glaciares
TRIGGER:-PT1H
END:VALARM
END:VEVENT
END:VCALENDAR
