BEGIN:VCALENDAR
VERSION:2.0
CALSCALE:GREGORIAN
PRODID:adamgibbons/ics
METHOD:PUBLISH
X-PUBLISHED-TTL:PT1H
BEGIN:VEVENT
UID:73@cartelera.inexactas.ar
SUMMARY:CORTE del acceso a Ciudad Universitaria
DTSTAMP:20260421T141534Z
DTSTART:20260421T143000Z
URL:https://cartelera.inexactas.ar/event/corte-del-acceso-a-ciudad-universi
	taria
LOCATION:Acceso Bondis de Ciudad Universitaria - Ciudad Autonoma de Buenos 
	Aires
STATUS:CONFIRMED
CATEGORIES:Ciudad Universitaria,Exactas,corte
BEGIN:VALARM
ACTION:DISPLAY
DESCRIPTION:CORTE del acceso a Ciudad Universitaria
TRIGGER:-PT1H
END:VALARM
END:VEVENT
END:VCALENDAR
