BEGIN:VCALENDAR
VERSION:2.0
CALSCALE:GREGORIAN
PRODID:adamgibbons/ics
METHOD:PUBLISH
X-PUBLISHED-TTL:PT1H
BEGIN:VEVENT
UID:80@cartelera.inexactas.ar
SUMMARY:ComComida - Picnic de otoño
DTSTAMP:20260423T202518Z
DTSTART:20260426T180000Z
DESCRIPTION:🍪☕️¡Comcomida de otoño! 🍁🍂\n\nNos juntamos a hacer un picnic en 
	parque centenario a eso de las 15hs este\ndomingo (se cancela por lluvia)\
	nTrate algo rico para compartir (mejor si es casero!)\, mate/té/gaseosa y 
	una\nmantita!\n\n+info en @comcomida [https://t.me/comcomida]
URL:https://cartelera.inexactas.ar/event/comcomida-picnic-de-otono
GEO:-34.6065159;-58.4355685
LOCATION:parque centenario - parque centenario
STATUS:CONFIRMED
CATEGORIES:ComCom,picnic
X-ALT-DESC;FMTTYPE=text/html:<p>🍪☕️<strong>¡Comcomida de otoño!</strong> 🍁🍂<
	/p><p>Nos juntamos a hacer un picnic en parque centenario a eso de las 15h
	s este domingo (se cancela por lluvia)<br>Trate algo rico para compartir (
	mejor si es casero!), mate/té/gaseosa y una mantita!</p><p>+info en <a hre
	f="https://t.me/comcomida" target="_blank">@comcomida</a></p>
BEGIN:VALARM
ACTION:DISPLAY
DESCRIPTION:ComComida - Picnic de otoño
TRIGGER:-PT1H
END:VALARM
END:VEVENT
END:VCALENDAR
