BEGIN:VCALENDAR
VERSION:2.0
CALSCALE:GREGORIAN
PRODID:adamgibbons/ics
METHOD:PUBLISH
X-PUBLISHED-TTL:PT1H
BEGIN:VEVENT
UID:81@cartelera.inexactas.ar
SUMMARY:Clase pública — Computación Cuántica: ¿Qué es y para qué sirve?
DTSTAMP:20260425T023812Z
DTSTART:20260429T200000Z
DESCRIPTION:Manteniendo el estado de paro permanente el departamento de com
	putación convoca\na clases públicas en la Plaza Manuel Belgrano. ¡No impor
	ta si sos de la\nfacultad!\n\nEn esta oportunidad te invitamos a "Computac
	ión Cuántica: ¿Qué es y para qué\nsirve?".\n\nInvita: Comunidad del Depart
	amento de Computación - Exactas UBA\nAcompañan: CECEN\, feduba y agdFCEN\n
	\nSIN UNIVERSIDAD NO HAY ECONOMÍA DEL CONOCIMIENTO.
URL:https://cartelera.inexactas.ar/event/clase-publica-computacion-cuantica
	-que-es-y-para-que-sirve
GEO:-34.5610656;-58.4547865
LOCATION:Plaza Manuel Belgrano\, Ciudad Autónoma de Buenos Aires - Plaza Be
	lgrano\, Avenida Juramento\, Belgrano\, Buenos Aires\, Comuna 13\, Ciudad 
	Autónoma de Buenos Aires\, C1428DNK\, Argentina
STATUS:CONFIRMED
CATEGORIES:computación,clases publicas
X-ALT-DESC;FMTTYPE=text/html:<p>Manteniendo el estado de paro permanente el
	 departamento de computación convoca a clases públicas en la Plaza Manuel 
	Belgrano. ¡No importa si sos de la facultad!</p><p>En esta oportunidad te 
	invitamos a "Computación Cuántica: ¿Qué es y para qué sirve?".</p><p>Invit
	a: Comunidad del Departamento de Computación - Exactas UBA<br>Acompañan: C
	ECEN, feduba y agdFCEN</p><p>SIN UNIVERSIDAD NO HAY ECONOMÍA DEL CONOCIMIE
	NTO.</p>
BEGIN:VALARM
ACTION:DISPLAY
DESCRIPTION:Clase pública — Computación Cuántica: ¿Qué es y para qué sirve?
TRIGGER:-PT1H
END:VALARM
END:VEVENT
END:VCALENDAR
