BEGIN:VCALENDAR
VERSION:2.0
CALSCALE:GREGORIAN
PRODID:adamgibbons/ics
METHOD:PUBLISH
X-PUBLISHED-TTL:PT1H
BEGIN:VEVENT
UID:76@cartelera.inexactas.ar
SUMMARY:Cine-Debate ComCom: Pizza\, Birra\, Faso
DTSTAMP:20260422T080941Z
DTSTART:20260424T223000Z
DTEND:20260425T003000Z
DESCRIPTION:🎬🍿 Cinéfilos ComCom proyecta Pizza\, Birra\, Faso (1998)\, film
	 argentino escrito\ny dirigido por Bruno Stagnaro e Israel Adrián Caetano.
	\n\n🎞 Viernes 24/04 a las 19:30 hs. en aula a confirmar\, pabellón 0+inf\,
	 ciudad\nuniversitaria.\n\nEl grupo esta en /listarotro de @dcubabot\, por
	 si se quieren sumar!
URL:https://cartelera.inexactas.ar/event/cine-debate-comcom-pizza-birra-fas
	o
GEO:-34.5437479;-58.440382
LOCATION:Aula a confirmar\, Pabellón 0+Infinito - Presidente Doctor Raúl Al
	fonsín\, Belgrano\, Buenos Aires\, Comuna 13\, Ciudad Autónoma de Buenos A
	ires\, C1428EHA\, Argentina
STATUS:CONFIRMED
CATEGORIES:cine,ComCom
X-ALT-DESC;FMTTYPE=text/html:<p>🎬🍿 <strong>Cinéfilos ComCom proyecta Pizza,
	 Birra, Faso (1998)</strong>, film argentino escrito y dirigido por Bruno 
	Stagnaro e Israel Adrián Caetano.</p><p>🎞 Viernes 24/04 a las 19:30 hs. en
	 aula a confirmar, pabellón 0+inf, ciudad universitaria.</p><p>El grupo es
	ta en /listarotro de @dcubabot, por si se quieren sumar!</p>
BEGIN:VALARM
ACTION:DISPLAY
DESCRIPTION:Cine-Debate ComCom: Pizza, Birra, Faso
TRIGGER:-PT1H
END:VALARM
END:VEVENT
END:VCALENDAR
