BEGIN:VCALENDAR
VERSION:2.0
CALSCALE:GREGORIAN
PRODID:adamgibbons/ics
METHOD:PUBLISH
X-PUBLISHED-TTL:PT1H
BEGIN:VEVENT
UID:64@cartelera.inexactas.ar
SUMMARY:Asamblea Interclaustros
DTSTAMP:20260420T001741Z
DTSTART:20260420T160000Z
DTEND:20260420T170000Z
URL:https://cartelera.inexactas.ar/event/asamblea-interclaustros
GEO:-34.5418931;-58.4422978
LOCATION:Playón Pabellón 2 - Av. Int. Güiraldes 2160\, C1428 Cdad. Autónoma
	 de Buenos Aires
STATUS:CONFIRMED
CATEGORIES:Ciudad Universitaria,Exactas,Pabellon 2,Asamblea,uba
BEGIN:VALARM
ACTION:DISPLAY
DESCRIPTION:Asamblea Interclaustros
TRIGGER:-PT1H
END:VALARM
END:VEVENT
END:VCALENDAR
