BEGIN:VCALENDAR
VERSION:2.0
CALSCALE:GREGORIAN
PRODID:adamgibbons/ics
METHOD:PUBLISH
X-PUBLISHED-TTL:PT1H
BEGIN:VEVENT
UID:67@cartelera.inexactas.ar
SUMMARY:Arduino - Talleres ComCom
DTSTAMP:20260421T131104Z
DTSTART:20260430T190000Z
DTEND:20260430T220000Z
DESCRIPTION:> En el marco del paro universitario por la no aplicación de la
	 Ley de\n> Financiamiento Universitario\, desde la ComCom queremos invitar
	les a participar\n> en una serie de talleres organizados y dictados por al
	umnos de la carrera\, a\n> lo largo de 3 semanas.\n> \n> Los talleres tien
	en un cupo de 50 personas cada uno (capacidad máxima del\n> aula).\n\nEn e
	l taller de Arduino\, tenemos un problema: encontramos un juego viejo crea
	do\npor la ComCom en 1985\, pero el joystick que teníamos para controlarlo
	 se rompió!\nVení a aprender sobre Arduino y divertite armando un joystick
	 desde cero\, desde\nla parte electrónica hasta escribir código para comun
	icarse con la PC.\n\nRequerimientos: Ideal tener conocimientos de programa
	ción (haber cursado\nIntroducción a la Programación)\n\n+info: https://com
	com.dc.uba.ar/talleres/paro/\n[https://comcom.dc.uba.ar/talleres/paro/]\nI
	nstagram: @comcom.exactas.uba [https://www.instagram.com/comcom.exactas.ub
	a/]
URL:https://cartelera.inexactas.ar/event/arduino-talleres-comcom
GEO:-34.5438312;-58.4403805
LOCATION:Labo 1103 - Pabellón 0+Infinito\, Ciudad Universitaria\, Buenos Ai
	res
STATUS:CONFIRMED
CATEGORIES:ComCom,Talleres,Arduino
X-ALT-DESC;FMTTYPE=text/html:<blockquote><p>En el marco del paro universita
	rio por la no aplicación de la Ley de Financiamiento Universitario, desde 
	la ComCom queremos invitarles a participar en una serie de talleres organi
	zados y dictados por alumnos de la carrera, a lo largo de 3 semanas.</p><p
	>Los talleres tienen un cupo de 50 personas cada uno (capacidad máxima del
	 aula).</p></blockquote><p>En el taller de Arduino, tenemos un problema: e
	ncontramos un juego viejo creado por la ComCom en 1985, pero el joystick q
	ue teníamos para controlarlo se rompió! Vení a aprender sobre Arduino y di
	vertite armando un joystick desde cero, desde la parte electrónica hasta e
	scribir código para comunicarse con la PC.</p><p><strong>Requerimientos:</
	strong> Ideal tener conocimientos de programación (haber cursado Introducc
	ión a la Programación)</p><p>+info: <a href="https://comcom.dc.uba.ar/tall
	eres/paro/" target="_blank">https://comcom.dc.uba.ar/talleres/paro/</a><br
	>Instagram: <a href="https://www.instagram.com/comcom.exactas.uba/" target
	="_blank">@comcom.exactas.uba</a></p>
BEGIN:VALARM
ACTION:DISPLAY
DESCRIPTION:Arduino - Talleres ComCom
TRIGGER:-PT1H
END:VALARM
END:VEVENT
END:VCALENDAR
